BEGIN:VCALENDAR
VERSION:2.0
PRODID:-// - ECPv6.15.20//NONSGML v1.0//EN
CALSCALE:GREGORIAN
METHOD:PUBLISH
X-ORIGINAL-URL:https://www.fieffes-montrelet.fr
X-WR-CALDESC:Évènements pour 
REFRESH-INTERVAL;VALUE=DURATION:PT1H
X-Robots-Tag:noindex
X-PUBLISHED-TTL:PT1H
BEGIN:VTIMEZONE
TZID:Europe/Paris
BEGIN:DAYLIGHT
TZOFFSETFROM:+0100
TZOFFSETTO:+0200
TZNAME:CEST
DTSTART:20230326T010000
END:DAYLIGHT
BEGIN:STANDARD
TZOFFSETFROM:+0200
TZOFFSETTO:+0100
TZNAME:CET
DTSTART:20231029T010000
END:STANDARD
BEGIN:DAYLIGHT
TZOFFSETFROM:+0100
TZOFFSETTO:+0200
TZNAME:CEST
DTSTART:20240331T010000
END:DAYLIGHT
BEGIN:STANDARD
TZOFFSETFROM:+0200
TZOFFSETTO:+0100
TZNAME:CET
DTSTART:20241027T010000
END:STANDARD
BEGIN:DAYLIGHT
TZOFFSETFROM:+0100
TZOFFSETTO:+0200
TZNAME:CEST
DTSTART:20250330T010000
END:DAYLIGHT
BEGIN:STANDARD
TZOFFSETFROM:+0200
TZOFFSETTO:+0100
TZNAME:CET
DTSTART:20251026T010000
END:STANDARD
END:VTIMEZONE
BEGIN:VEVENT
DTSTART;TZID=Europe/Paris:20241223T080000
DTEND;TZID=Europe/Paris:20241223T170000
DTSTAMP:20260419T184650
CREATED:20241221T095631Z
LAST-MODIFIED:20250125T105814Z
UID:1325-1734940800-1734973200@www.fieffes-montrelet.fr
SUMMARY:Noel des enfants
DESCRIPTION:🎄 Noël des Enfants à Fieffes-Montrelet 🎅 \nLe comité des fêtes de Fieffes-Montrelet est ravi d’inviter tous les enfants à célébrer la magie de Noël ! \n📅 Quand ?\nMardi 23 décembre 2024 à partir de 16h \n📍 Où ?\nÀ la salle des fêtes de Fieffes-Montrelet \n🎅 Au programme : \n\nVisite du Père Noël : Une occasion unique de rencontrer le Père Noël en personne !\nBoissons chaudes : Chocolat chaud pour les enfants et vin chaud pour les adultes.\nMoments gourmands : Distribution de friandises et douceurs chocolatées.\n\n✨ Un après-midi magique et chaleureux pour petits et grands ! \n👉 Infos pratiques : \n\nActivité gratuite et ouverte à tous.\nParents et grands-parents sont les bienvenus pour accompagner les enfants.\n\n📞 Pour plus d’informations : \n\nContactez-nous au 03 22 39 00 87\nSuivez-nous sur notre page Facebook : Fieffes Montrelet\n\n🎁 Venez partager la magie de Noël avec nous !\nNous vous attendons nombreux pour un moment inoubliable !
URL:https://www.fieffes-montrelet.fr/actualites/noel-des-enfants/
CATEGORIES:Festivité
ATTACH;FMTTYPE=image/png:https://www.fieffes-montrelet.fr/wp-content/uploads/2024/12/image10.png
END:VEVENT
END:VCALENDAR